BEGIN:VCALENDAR
VERSION:2.0
PRODID:-//LSC Racing - Learn, Compete, Excel!  Experience Boler from a Different Speed! - ECPv6.13.2.1//NONSGML v1.0//EN
CALSCALE:GREGORIAN
METHOD:PUBLISH
X-ORIGINAL-URL:https://lscracing.com
X-WR-CALDESC:Events for LSC Racing - Learn, Compete, Excel!  Experience Boler from a Different Speed!
REFRESH-INTERVAL;VALUE=DURATION:PT1H
X-Robots-Tag:noindex
X-PUBLISHED-TTL:PT1H
BEGIN:VTIMEZONE
TZID:America/Toronto
BEGIN:DAYLIGHT
TZOFFSETFROM:-0500
TZOFFSETTO:-0400
TZNAME:EDT
DTSTART:20210314T070000
END:DAYLIGHT
BEGIN:STANDARD
TZOFFSETFROM:-0400
TZOFFSETTO:-0500
TZNAME:EST
DTSTART:20211107T060000
END:STANDARD
END:VTIMEZONE
BEGIN:VEVENT
DTSTART;TZID=America/Toronto:20210102T080000
DTEND;TZID=America/Toronto:20210102T130000
DTSTAMP:20260424T061931
CREATED:20201030T165235Z
LAST-MODIFIED:20230202T010401Z
UID:443-1609574400-1609592400@lscracing.com
SUMMARY:Assessment Day Development and Competitive Programs
DESCRIPTION:  \n 
URL:https://lscracing.com/event/assessment-day-development-and-competitive-programs/2021-01-02/
ATTACH;FMTTYPE=image/jpeg:https://lscracing.com/wp-content/uploads/2019/08/The-three-Karbon-U12-boys-at-Boler-XL-e1409574094959_banner.jpg
END:VEVENT
END:VCALENDAR